BEGIN:VCALENDAR
VERSION:2.0
PRODID:-//pretix//pretix.eu//
BEGIN:VTIMEZONE
TZID:Europe/Berlin
BEGIN:STANDARD
DTSTART:20001029T040000
RRULE:FREQ=YEARLY;BYDAY=-1SU;BYMONTH=10
TZNAME:CET
TZOFFSETFROM:+0200
TZOFFSETTO:+0100
END:STANDARD
BEGIN:DAYLIGHT
DTSTART:20000326T030000
RRULE:FREQ=YEARLY;BYDAY=-1SU;BYMONTH=3
TZNAME:CEST
TZOFFSETFROM:+0100
TZOFFSETTO:+0200
END:DAYLIGHT
END:VTIMEZONE
BEGIN:VEVENT
UID:pretix-svao-fu-3-herren-2519853@svao.vereinsticket.de
DTSTART;TZID=Europe/Berlin:20210926T130000
DTEND;TZID=Europe/Berlin:20210926T140000
DESCRIPTION:Tickets: https://svao.vereinsticket.de/fu-3-herren/2519853/\nVe
 ranstalter: SV Ahlerstedt/Ottendorf e.V.
DTSTAMP:20260425T165033Z
LOCATION:Sportanlage Ottendorf Platz 1\, Hauptstr. 1\, 21702 Ottendorf
SUMMARY:3. Herren - ASC Cranz-Estebrügge III  (2. Kreisklasse)
END:VEVENT
END:VCALENDAR
