BEGIN:VCALENDAR
VERSION:2.0
PRODID:-//pretix//pretix.eu//
BEGIN:VTIMEZONE
TZID:Europe/Berlin
BEGIN:STANDARD
DTSTART:20001029T040000
RRULE:FREQ=YEARLY;BYDAY=-1SU;BYMONTH=10
TZNAME:CET
TZOFFSETFROM:+0200
TZOFFSETTO:+0100
END:STANDARD
BEGIN:DAYLIGHT
DTSTART:20000326T030000
RRULE:FREQ=YEARLY;BYDAY=-1SU;BYMONTH=3
TZNAME:CEST
TZOFFSETFROM:+0100
TZOFFSETTO:+0200
END:DAYLIGHT
END:VTIMEZONE
BEGIN:VEVENT
UID:pretix-svao-fu-3-frauen-2519863@svao.vereinsticket.de
DTSTART;TZID=Europe/Berlin:20210919T120000
DTEND;TZID=Europe/Berlin:20210919T130000
DESCRIPTION:Tickets: https://svao.vereinsticket.de/fu-3-frauen/2519863/\nVe
 ranstalter: SV Ahlerstedt/Ottendorf e.V.
DTSTAMP:20260425T165440Z
LOCATION:Sportanlage Ottendorf Platz 1\, Hauptstr. 1\, 21702 Ottendorf
SUMMARY:3. Frauen - VfL Jesteburg II  (Kreisliga)
END:VEVENT
END:VCALENDAR
