BEGIN:VCALENDAR
VERSION:2.0
PRODID:-//pretix//pretix.eu//
BEGIN:VTIMEZONE
TZID:Europe/Berlin
BEGIN:STANDARD
DTSTART:20001029T040000
RRULE:FREQ=YEARLY;BYDAY=-1SU;BYMONTH=10
TZNAME:CET
TZOFFSETFROM:+0200
TZOFFSETTO:+0100
END:STANDARD
BEGIN:DAYLIGHT
DTSTART:20000326T030000
RRULE:FREQ=YEARLY;BYDAY=-1SU;BYMONTH=3
TZNAME:CEST
TZOFFSETFROM:+0100
TZOFFSETTO:+0200
END:DAYLIGHT
END:VTIMEZONE
BEGIN:VEVENT
UID:pretix-svao-fu-1-herren-3869109@svao.vereinsticket.de
DTSTART;TZID=Europe/Berlin:20230319T150000
DTEND;TZID=Europe/Berlin:20230319T170000
DESCRIPTION:Tickets: https://svao.vereinsticket.de/fu-1-herren/3869109/\nEi
 nlass: 19.03.2023 13:00\nVeranstalter: SV Ahlerstedt/Ottendorf e.V.
DTSTAMP:20260424T075912Z
LOCATION:Sportanlage Am Auetal\, Platz 1\, Büntweg 5\, 21702 Ahlerstedt
SUMMARY:SV Ahlerstedt/Ottendorf e.V. gegen VfL Oldenburg
END:VEVENT
END:VCALENDAR
